BEGIN:VCALENDAR
VERSION:2.0
METHOD:PUBLISH
CALSCALE:GREGORIAN
PRODID:-//WordPress - MECv7.21.0//EN
X-ORIGINAL-URL:https://sarahscalendar.com/
X-WR-CALNAME:Sarah&#039;s Calendar
X-WR-CALDESC:Events for Everyone
REFRESH-INTERVAL;VALUE=DURATION:PT1H
X-PUBLISHED-TTL:PT1H
X-MS-OLK-FORCEINSPECTOROPEN:TRUE
BEGIN:VEVENT
CLASS:PUBLIC
UID:MEC-d93ed5b6db83be78efb0d05ae420158e@sarahscalendar.com
DTSTART:20260513T124500Z
DTEND:20260513T140000Z
DTSTAMP:20250207T133100Z
RRULE:FREQ=MONTHLY;WKST=MO;BYDAY=2WE
CREATED:20250207
LAST-MODIFIED:20250207
PRIORITY:5
SEQUENCE:1
TRANSP:OPAQUE
SUMMARY:Coffee is for Closing
DESCRIPTION:\n\n\n\nCOFFEE IS FOR CLOSING\n\n\n\n\n\n\nCaffeinate + Connect + Empower\n\n\n\n\n\n\nJoin us on the Second Wednesday of the Month\nfrom 8:45am – 9:45am at the Tower Club Tysons Corner\nEntrepreneurship doesn’t have to be a solo journey!\nBuilding your business can feel isolating, but it doesn’t have to be that way. And guess what? You don’t need to break the bank to find support, community, and meaningful connections. At Coffee is for Closing, we’re brewing something special for both new and seasoned entrepreneurs:\n☕ Network with like-minded go-getters\n☕ Engage in empowering conversations that spark “ah-ha!” moments\n☕ Enjoy free coffee and pastries to fuel your morning\n☕ Take a moment away from your business to center your mind and fuel up for the day\nThis event is designed for Y-O-U, the entrepreneur juggling a million things. Stop by when it works for you, make valuable connections, and leave with fresh ideas to tackle those business challenges like a boss.\nWhether you’re here to make new friends or brainstorm your next big move, we promise you’ll leave feeling energized and inspired.\n📍 When: 2nd Wednesday of every month at 8:45 AM ET\n📍 Where: The Tower Club, Tysons Corner-8000 Towers Crescent Dr Suite 1700, Vienna, VA 22182\n📍Price: Free\nRegister at: https://events.salesuprising.com/coffee-is-for-closing ( https://events.salesuprising.com/coffee-is-for-closing )\n\n\n\n
URL:https://sarahscalendar.com/events/coffee-is-for-closing/
CATEGORIES:Self Improvement
ATTACH;FMTTYPE=image/png:https://i0.wp.com/sarahscalendar.com/wp-content/uploads/2025/02/Katies-event.png?fit=3137%2C1090&#038;ssl=1
END:VEVENT
BEGIN:VEVENT
CLASS:PUBLIC
UID:MEC-6aab1270668d8cac7cef2566a1c5f569@sarahscalendar.com
DTSTART:20260428T160000Z
DTEND:20260428T173000Z
DTSTAMP:20250206T191600Z
RRULE:FREQ=WEEKLY
CREATED:20250206
LAST-MODIFIED:20250222
PRIORITY:5
SEQUENCE:2
TRANSP:OPAQUE
SUMMARY:Virtual Roundtable Business Networking
DESCRIPTION:If you want to make connecitons with other business leaders and have a great time doing it, join the Virtual Roundtable Business Networking group on Tuesdays at noon. You can join virtually, so no crazy drive around the DMV for networking. You will make so many great connecitons from all industries. It runs from 12pm to 130pm so bring your lunch and say hello.\n \nHosted by:\nDarren Marquardt\nCoach Marvin Powell\nSome weeks there are special speakers, but most weeks it is an open conversation based around business and networking. You will learn skills to help in noth areas, while meeting others and connecting on a more personal level.\nThere are occasional in person meet ups and everyone is encouraged to follow up with poeple they meet for further collaboration.\nSpeaking from personal experinece, the Virtual Roundtable Business Networking was my intro to networking in the area and remains one of my favorite places to meet new friends and reconnect with long term friends in the business world. ~ Sarah\nThe register here: https://www.meetup.com/myroundtable/events/ ( https://www.meetup.com/myroundtable/events/ )\n\n
URL:https://sarahscalendar.com/events/virtual-roundtable-business-networking/
CATEGORIES:Networking Events
END:VEVENT
BEGIN:VEVENT
CLASS:PUBLIC
UID:MEC-ef50c335cca9f340bde656363ebd02fd@sarahscalendar.com
DTSTART:20260427T200000Z
DTEND:20260427T210000Z
DTSTAMP:20250227T015900Z
RRULE:FREQ=WEEKLY
CREATED:20250226
LAST-MODIFIED:20250226
PRIORITY:5
SEQUENCE:2
TRANSP:OPAQUE
SUMMARY:Team Network’s Rally Point
DESCRIPTION:Join us on Team Network’s…\n\nCOME ONE – COME ALL – EVERY MONDAY 4-5:00 PM\nA Virtual “Rally Point” for Building Business Together!\nJoin RALLY POINT Zoom Meeting \nhttps://us02web.zoom.us/j/3013705351\nMeeting ID: 301 370 5351\nPasscode: 070476\n• 301 715 8592 US (Washington DC)\nALL ARE WELCOME AND IT’S FREE\nSimply register and join us at the “Rally Point!”\nWe’re here for you to share information and ideas. Visit for the entire hour or just stop by the Rally Point for a little while.\nThemes – Guest Speakers – Topical Discussions – Introductions\nDesigned for learning sharing camaraderie.\nCome… lift each other up as we close business together every Monday.\n\n
URL:https://sarahscalendar.com/events/team-networks-rally-point/
CATEGORIES:Networking Events
END:VEVENT
BEGIN:VEVENT
CLASS:PUBLIC
UID:MEC-e17184bcb70dcf3942c54e0b537ffc6d@sarahscalendar.com
DTSTART:20260428T120000Z
DTEND:20260428T133000Z
DTSTAMP:20250314T031700Z
RRULE:FREQ=WEEKLY
CREATED:20250313
LAST-MODIFIED:20250313
PRIORITY:5
SEQUENCE:1
TRANSP:OPAQUE
SUMMARY:T.N.T. IS DY-NO-MITE!
DESCRIPTION:T.N.T. IS DY-NO-MITE!\nWe Are Team Network Tysons (TNT)\nWE MEET EVERY TUESDAY MORNING 8:00 – 9:30\nJoin our meeting and discover how we cultivate meaningful relationships and grow our businesses!\nTuesday, March 11th\n8:00 – 9:30 AM\nSee you all in cyber space!!\n\nMEMBERS & GUESTS ARE FREE!\nPLEASE RSVP \n\nJoin Zoom Meeting\nhttps://us02web.zoom.us/j/89295841218?pwd=VHRPSlNIcGh2d2hNajd5aC9paUd0QT09\nPasscode: 070476\nDial by phone 301-715-8592\n\nLOOKING FOR A SERIOUS NETWORKING GROUP? \nWe are Team Network Tysons and we are an exclusive category networking group.\nWe will share agendas designed to facilitate meaningful introductions, engaging conversations and referral partnerships. We encourage members to meet one-on-one outside the meetings to foster long-term business relationships that will help grow the team, and more importantly, our bottom lines.\nEvent Link: Team Network Tysons ZOOM\n
URL:https://sarahscalendar.com/events/t-n-t-is-dy-no-mite/
CATEGORIES:Networking Events
END:VEVENT
BEGIN:VEVENT
CLASS:PUBLIC
UID:MEC-7cce53cf90577442771720a370c3c723@sarahscalendar.com
DTSTART:20260507T170000Z
DTEND:20260507T180000Z
DTSTAMP:20250318T144900Z
RRULE:FREQ=WEEKLY;INTERVAL=2
CREATED:20250318
LAST-MODIFIED:20250318
PRIORITY:5
SEQUENCE:2
TRANSP:OPAQUE
SUMMARY:IGNITE Online Networking
DESCRIPTION:IGNITE Online Networking\nIGNITE: The Best Online Networking Event for Entrepreneurs Bi-Weekly on Thursdays\nWHY ATTEND?\nYou need strategic connections that actually lead to business growth. IGNITE helps you:\n✅ 1:1 Networking with Business Owners – Build real connections that fuel growth.\n✅ Get Clients, Referrals & Deals – Meet decision-makers ready to do business.\n✅ Master High-Impact Networking – Learn game-changing strategies from Claire Ansell.\n✅ Find Solutions Fast – Roundtable discussions to tackle business challenges.\n✅ Stay Connected & Keep Growing – Exclusive access to the Business Power Hub.\n📍 JOIN THIS EVENT LIVE IN THE BUSINESS POWER HUB FOR FREE\nIGNITE is just the beginning! This monthly networking event happens inside The Business Power Hub—your go-to platform for connections, strategy, and unstoppable growth.\nWhat You Get Inside the Hub:\n✔ Elite Entrepreneur Network – Connect with serious business owners.\n✔ Weekly Live Coaching – Expert strategies to overcome challenges and scale fast.\n✔ Proven Business Playbooks – Ready-to-use tools, templates, and action plans.\n✔ Access to Growth Resources – Get the guidance you need whenever needed.\nneeded\n🔥 Join the Hub. Grow your business. Build powerful connections.\n👉 Secure Your Spot & Start Making Power Moves NOW! \nRegister Here: https://businesspowerhouse.com/ignite ( https://businesspowerhouse.com/ignite )\nhttps://businesspowerhouse.com/ignite ( https://businesspowerhouse.com/ignite )\n\n
URL:https://sarahscalendar.com/events/ignite-online-networking/
CATEGORIES:Networking Events
ATTACH;FMTTYPE=:https://sarahscalendar.com/wp-content/uploads/2025/03/https___cdn.evbuc_.com_images_963931553_1032055880963_1_original.avif
END:VEVENT
BEGIN:VEVENT
CLASS:PUBLIC
UID:MEC-db576a7d2453575f29eab4bac787b919@sarahscalendar.com
DTSTART:20260506T161500Z
DTEND:20260506T170000Z
DTSTAMP:20250319T150100Z
RRULE:FREQ=MONTHLY;WKST=MO;BYDAY=1WE
CREATED:20250319
LAST-MODIFIED:20250319
PRIORITY:5
SEQUENCE:1
TRANSP:OPAQUE
SUMMARY:Optimist Lunch
DESCRIPTION:Optimist Lunch\nLocation: Washington Golf and Country Club\nFor more information: https://optimistclubofarlingtonva.com/calendar/ ( https://optimistclubofarlingtonva.com/calendar/ )\n \nThe members of the Optimists International Club of Arlington, VA, dedicate themselves to community service and to making Arlington a better place for all to live. We believe that in giving of ourselves in service, our community becomes a better place.\nOur mottoes: “Friend of Youth” indicates our main focus and “Bringing out the Best in Kids” our goal.\nWe sponsor academic and sports activities designed to give Arlington’s youth a better chance to succeed in today’s world. Whether it is a scholarship to help students attend college, Babe Ruth Baseball or Arlington Soccer, an essay or oratorical contest, Arlington’s Optimists are there supporting programs that enhance opportunities for boys and girls of all ages.\n
URL:https://sarahscalendar.com/events/optimist-lunch/
CATEGORIES:Networking Events
END:VEVENT
BEGIN:VEVENT
CLASS:PUBLIC
UID:MEC-2b38c2df6a49b97f706ec9148ce48d86@sarahscalendar.com
DTSTART:20260504T160000Z
DTEND:20260504T170000Z
DTSTAMP:20250517T122900Z
RRULE:FREQ=MONTHLY;WKST=MO;BYDAY=1MO
CREATED:20250517
LAST-MODIFIED:20250517
PRIORITY:5
SEQUENCE:2
TRANSP:OPAQUE
SUMMARY:ConneXion Hub Online
DESCRIPTION:BUSINESS NETWORKING + EXPERTISE FORUM\nFree to Attend\n12noon – 1pm\nZoom: https://bit.ly/ConneXionHubForum\n1st & 3rd Monday every month\nSEE CALENDER HERE\n
URL:https://sarahscalendar.com/events/connexion-hub-online/
CATEGORIES:Networking Events
END:VEVENT
BEGIN:VEVENT
CLASS:PUBLIC
UID:MEC-944bdd9636749a0801c39b6e449dbedc@sarahscalendar.com
DTSTART:20260426T160000Z
DTEND:20260426T210000Z
DTSTAMP:20260412T220800Z
CREATED:20260412
LAST-MODIFIED:20260412
PRIORITY:5
SEQUENCE:1
TRANSP:OPAQUE
SUMMARY:Celebration of Life Expo
DESCRIPTION:Everyone has to face end of life decisions at some point, why not do so at an expo with your friends and make it fun?! The Celebration of Life Expo will help you find all the things you didn’t even realize you need. You will also find things you might be suprised about and want.\nLadan puts on the best expos and you don’t want to miss this one. You can find tickets at:\n– If you live in the DMV area (DC/Maryland/Virginia)\n— Attend the Celebration of Life Expo in person (April 26th): https://bit.ly/tickets-col-expo\n\nThere is also an online option if you aren’t in the area:\n\n– If you live outside the DMV area, here is the link to register for the FREE Zoom (The Expo is a Hybrid event): https://bit.ly/4aZyq0L\n\n\n
URL:https://sarahscalendar.com/events/celebration-of-life-expo/
CATEGORIES:Community Events,Self Improvement
END:VEVENT
END:VCALENDAR
